BEGIN:VCALENDAR
VERSION:2.0
PRODID:-//Schallfeld Ensemble - ECPv6.15.20//NONSGML v1.0//EN
CALSCALE:GREGORIAN
METHOD:PUBLISH
X-WR-CALNAME:Schallfeld Ensemble
X-ORIGINAL-URL:https://www.schallfeldensemble.com
X-WR-CALDESC:Events for Schallfeld Ensemble
REFRESH-INTERVAL;VALUE=DURATION:PT1H
X-Robots-Tag:noindex
X-PUBLISHED-TTL:PT1H
BEGIN:VTIMEZONE
TZID:Europe/Vienna
BEGIN:DAYLIGHT
TZOFFSETFROM:+0100
TZOFFSETTO:+0200
TZNAME:CEST
DTSTART:20250330T010000
END:DAYLIGHT
BEGIN:STANDARD
TZOFFSETFROM:+0200
TZOFFSETTO:+0100
TZNAME:CET
DTSTART:20251026T010000
END:STANDARD
BEGIN:DAYLIGHT
TZOFFSETFROM:+0100
TZOFFSETTO:+0200
TZNAME:CEST
DTSTART:20260329T010000
END:DAYLIGHT
BEGIN:STANDARD
TZOFFSETFROM:+0200
TZOFFSETTO:+0100
TZNAME:CET
DTSTART:20261025T010000
END:STANDARD
BEGIN:DAYLIGHT
TZOFFSETFROM:+0100
TZOFFSETTO:+0200
TZNAME:CEST
DTSTART:20270328T010000
END:DAYLIGHT
BEGIN:STANDARD
TZOFFSETFROM:+0200
TZOFFSETTO:+0100
TZNAME:CET
DTSTART:20271031T010000
END:STANDARD
END:VTIMEZONE
BEGIN:VEVENT
DTSTART;TZID=Europe/Vienna:20261016T193000
DTEND;TZID=Europe/Vienna:20261016T210000
DTSTAMP:20260424T013026
CREATED:20250930T170401Z
LAST-MODIFIED:20260329T173846Z
UID:8320-1792179000-1792184400@www.schallfeldensemble.com
SUMMARY:Text im Klang #7
DESCRIPTION:Premieres of impuls composition commissions\n16.10.2026\, 19.30\nKUG . Palais Meran . Florentinersaal\, Leonhardstraße 15\, 8010 Graz\n\n\n\n\n\nKlaus Kastberger Introduction to the work of Friederike Mayröcker \n  \nLuca Bardelle New Work (2026\, world premiere) \nDilay Doğanay New Work (2026\, world premiere) \nForrest Moody New Work (2026\, world premiere) \nJoanna Wozny New Work (2026\, world premiere) \n  \n  \nSchallfeld Ensemble \nZinajda Kodrič flute \nSzilárd Benes clarinet \nNN piano \nLorenzo Derinni violin \nMyriam García Fidalgo cello \n\n\n \n\n\n\n\n„Text im Klang” is already looking forward to its 7th edition in 2026. From the very beginning\, the project has seen itself as a laboratory\, where medial interlacings with a focal point on impulses are put into practice. In specific\, literary texts as well as the active exchange between composer and author hereby provide the initial impulses for new compositions. The intention of the project hereby does not pursue a classical setting such as words to music\, nor a simple translation of the words with voices\, nor tonal representations of the texts – what is called for is rather texts functioning as movens with their\, for example\, rhythmic and syntactic qualities\, in its tonal coloration\, its timbre\, in its atmospheric or thematic density\, as semantic abutment\, … Hereby the experimental setup of „Text im Klang” has always been slightly modified throughout the years: in 2014 and 2016\, preselected texts by various Austrian authors served the composers in various pairings as a source of inspiration; in the performances\, music and text were sometimes intertwined\, the latter read by actors or the authors themselves\, sometimes being integrated directly in the composition itself live or e.g. as an edited or processed recording. In 2018 in turn\, the focus for all composers was put on one specific short text\, in 2020\, both text and music were created from scratch on a jointly developed theme. In 2022 Ferdinand Schmatz´s „das gehörte feuer. orphische skizzen“ was the starting point for the new compositions\, which partly included fragments of the text both in acoustic and visual ways aside from other parts being read by the author\, and in 2024 Elfriede Jelinek agreed that any of her numerous texts could function as impulse and starting point for new musical works\, which that time were written for the very classical line-up of Schubert´s Forellenquintett. \n  \nLike in former years\, with Schallfeld Ensemble also the musicians of course play an important role in the project\, being included in the process from the very beginning and standing in close connection specially with the composers for the realization of their new works. Throughout the different editions Schallfeld Ensemble has hereby presented itself in various line-ups. \n  \nIn 2026 five years will have passed since the death of one of the Grandes Dames of Austrian literature\, Friederike Mayröcker. With unwavering curiosity\, she worked until the very end on a multi-award-winning body of work comprising over 120 books — with numerous references to music\, visual arts\, philosophy\, and poetry. Its magic\, visual power\, and poetic radicalism had a decisive influence on German-language literature. Klaus Kastberger\, who has worked and published on her oeuvre\, accompanies the project as an intermediary to the writer and her literary work as well as to her musical preferences\, giving an introduction also at the day of the premieres. Once more „Text im Klang“ offers a dramaturgically coherent program on October 16th\, and concludes the following day with an open brunch\, allowing reflections on the overall process of the project and an exchange with the audience on their impressions. \n\n\n€ 18 | € 12* | € 7** \n* Pupils\, students\, conscripts/civil servants and unemployed persons with valid identity card \n** Music students with valid ID at the box office and children up to 10 years of age \n*** Free admission for Hunger auf Kunst & Kultur at the box office from 15 minutes before the start of the concert. \nTicket reservation: office@impuls.cc \nThe program will also be performed on October 20th\, 2026 at echoraum in Vienna.
URL:https://www.schallfeldensemble.com/event/text-im-klang-7/
LOCATION:Florentinersaal\, Palais Meran . Florentinersaal\, Leonhardstraße 15\, Graz\, 8010\, Austria
ATTACH;FMTTYPE=image/jpeg:https://www.schallfeldensemble.com/wp-content/uploads/schallfeld5.jpg
END:VEVENT
BEGIN:VEVENT
DTSTART;TZID=Europe/Vienna:20261017T100000
DTEND;TZID=Europe/Vienna:20261017T130000
DTSTAMP:20260424T013026
CREATED:20250930T172902Z
LAST-MODIFIED:20250930T173038Z
UID:8326-1792231200-1792242000@www.schallfeldensemble.com
SUMMARY:Text im Klang #7 Discourse : Open Brunch
DESCRIPTION:Statements by and discussion with the involved artists of the project “Text im Klang” after the premieres on October 16th with Luca Bardelle | Forrest Moody | Dilay Doğanay | Joanna Wozny | Schallfeld Ensemble as well as Klaus Kastberger \n  \nFree admission / guests are asked to pay for their consumption though.
URL:https://www.schallfeldensemble.com/event/text-im-klang-7-discourse-open-brunch/
ATTACH;FMTTYPE=image/jpeg:https://www.schallfeldensemble.com/wp-content/uploads/schallfeld5.jpg
END:VEVENT
BEGIN:VEVENT
DTSTART;VALUE=DATE:20261020
DTEND;VALUE=DATE:20261021
DTSTAMP:20260424T013026
CREATED:20251002T092907Z
LAST-MODIFIED:20260330T094728Z
UID:8329-1792454400-1792540799@www.schallfeldensemble.com
SUMMARY:Text im Klang #7 Vienna
DESCRIPTION:Impuls composition commissions\n\n\n\n\n\n  \nLuca Bardelle New Work (2026) \nForrest Moody New Work (2026) \nDilay Doğanay New Work (2026) \nJoanna Wozny New Work (2026) \n  \nSchallfeld Ensemble \nElisa Azzarà flute \nSzilárd Benes clarinet \nNN piano \nLorenzo Derinni violin \nMyriam García Fidalgo cello \n\n\n\n\n\n\n\n„Text im Klang” is already looking forward to its 7th edition in 2026. From the very beginning\, the project has seen itself as a laboratory\, where medial interlacings with a focal point on impulses are put into practice. In specific\, literary texts as well as the active exchange between composer and author hereby provide the initial impulses for new compositions. The intention of the project hereby does not pursue a classical setting such as words to music\, nor a simple translation of the words with voices\, nor tonal representations of the texts – what is called for is rather texts functioning as movens with their\, for example\, rhythmic and syntactic qualities\, in its tonal coloration\, its timbre\, in its atmospheric or thematic density\, as semantic abutment\, … Hereby the experimental setup of „Text im Klang” has always been slightly modified throughout the years: in 2014 and 2016\, preselected texts by various Austrian authors served the composers in various pairings as a source of inspiration; in the performances\, music and text were sometimes intertwined\, the latter read by actors or the authors themselves\, sometimes being integrated directly in the composition itself live or e.g. as an edited or processed recording. In 2018 in turn\, the focus for all composers was put on one specific short text\, in 2020\, both text and music were created from scratch on a jointly developed theme. In 2022 Ferdinand Schmatz´s „das gehörte feuer. orphische skizzen“ was the starting point for the new compositions\, which partly included fragments of the text both in acoustic and visual ways aside from other parts being read by the author\, and in 2024 Elfriede Jelinek agreed that any of her numerous texts could function as impulse and starting point for new musical works\, which that time were written for the very classical line-up of Schubert´s Forellenquintett. \nLike in former years\, with Schallfeld Ensemble also the musicians of course play an important role in the project\, being included in the process from the very beginning and standing in close connection specially with the composers for the realization of their new works. Throughout the different editions Schallfeld Ensemble has hereby presented itself in various line-ups. \nIn 2026 five years will have passed since the death of one of the Grandes Dames of Austrian literature\, Friederike Mayröcker. With unwavering curiosity\, she worked until the very end on a multi-award-winning body of work comprising over 120 books — with numerous references to music\, visual arts\, philosophy\, and poetry. Its magic\, visual power\, and poetic radicalism had a decisive influence on German-language literature. Klaus Kastberger\, who has worked and published on her oeuvre\, accompanies the project as an intermediary to the writer and her literary work as well as to her musical preferences. \nThe pieces will be premiered on the 16.10.2026 in Graz. More info in the impuls website \n\n\nMore info coming soon
URL:https://www.schallfeldensemble.com/event/text-im-klang-7-vienna/
LOCATION:echoraum\, Sechshauser Straße 66\, Wien\, Austria
ATTACH;FMTTYPE=image/jpeg:https://www.schallfeldensemble.com/wp-content/uploads/schallfeld5.jpg
END:VEVENT
END:VCALENDAR